BEGIN:VCALENDAR
VERSION:2.0
PRODID:-//Fixation | Wex Service Repair Centre - ECPv6.15.13.1//NONSGML v1.0//EN
CALSCALE:GREGORIAN
METHOD:PUBLISH
X-WR-CALNAME:Fixation | Wex Service Repair Centre
X-ORIGINAL-URL:https://repair.wexphotovideo.com
X-WR-CALDESC:Events for Fixation | Wex Service Repair Centre
REFRESH-INTERVAL;VALUE=DURATION:PT1H
X-Robots-Tag:noindex
X-PUBLISHED-TTL:PT1H
BEGIN:VTIMEZONE
TZID:Europe/London
BEGIN:DAYLIGHT
TZOFFSETFROM:+0000
TZOFFSETTO:+0100
TZNAME:BST
DTSTART:20240331T010000
END:DAYLIGHT
BEGIN:STANDARD
TZOFFSETFROM:+0100
TZOFFSETTO:+0000
TZNAME:GMT
DTSTART:20241027T010000
END:STANDARD
BEGIN:DAYLIGHT
TZOFFSETFROM:+0000
TZOFFSETTO:+0100
TZNAME:BST
DTSTART:20250330T010000
END:DAYLIGHT
BEGIN:STANDARD
TZOFFSETFROM:+0100
TZOFFSETTO:+0000
TZNAME:GMT
DTSTART:20251026T010000
END:STANDARD
BEGIN:DAYLIGHT
TZOFFSETFROM:+0000
TZOFFSETTO:+0100
TZNAME:BST
DTSTART:20260329T010000
END:DAYLIGHT
BEGIN:STANDARD
TZOFFSETFROM:+0100
TZOFFSETTO:+0000
TZNAME:GMT
DTSTART:20261025T010000
END:STANDARD
END:VTIMEZONE
BEGIN:VEVENT
DTSTART;TZID=Europe/London:20250704T100000
DTEND;TZID=Europe/London:20250704T160000
DTSTAMP:20260423T201654
CREATED:20250613T105422Z
LAST-MODIFIED:20250613T105501Z
UID:15341-1751623200-1751644800@repair.wexphotovideo.com
SUMMARY:Wex Roadshow 2025 | Fixation
DESCRIPTION:Get ready! The Wex Roadshow is coming to Fixation for one day only. \n  \nWhat to expect: \n\nTry the latest gear: Get hands-on experience with the newest cameras\, lenses\, and accessories from top brands including Canon\, Sony\, Nikon\, Fujifilm\, Lumix\, and more.\nExclusive one-day offers: Take advantage of special deals available only at this event\, the perfect chance to upgrade your kit or add exciting new gear.\nExpert advice & support: Brand specialists and in-store experts will be on hand to offer personalised advice for photographers of all skill levels\, from beginners to pros.\nGift for early birds! The first 35 customers to make a purchase will receive a FREE JOBY GorillaPod Custom 1K Kit – don’t miss out!\nPrize draw: enter for your chance to win a Canon PowerShot V1 Premium Vlogger Kit worth £989! (T&Cs) https://www.wexphotovideo.com/about-us/store-finder/wex-roadshow/wex-roadshow-prize-draw-terms-and-conditions/\n\n \n 
URL:https://repair.wexphotovideo.com/event/wex-roadshow-2025-fixation/
LOCATION:Fixation Showroom\, Unit C\, 250 Kennington Lane\, London\, SE11 5RD\, United Kingdom
CATEGORIES:Open Days
END:VEVENT
END:VCALENDAR